BEGIN:VCALENDAR
VERSION:2.0
PRODID:-//Sabre//Sabre VObject 4.5.8//EN
CALSCALE:GREGORIAN
BEGIN:VEVENT
UID:sabre-vobject-aeed06f7-e1d9-4a94-a383-dbc34e4ee516
DTSTAMP:20260421T084757Z
SUMMARY:Feldenkrais  Frühjahr
DESCRIPTION:https://keb-oberallgaeu.de/veranstaltungen/feldenkrais-fruehjah
 r_id323570
DTSTART;TZID=Europe/Berlin:20260415T190000
LOCATION:Online
END:VEVENT
END:VCALENDAR
