BEGIN:VCALENDAR
VERSION:2.0
PRODID:-//Sabre//Sabre VObject 4.5.8//EN
CALSCALE:GREGORIAN
BEGIN:VEVENT
UID:sabre-vobject-e96dfafd-643a-4a65-90d8-033b65a5cb14
DTSTAMP:20260421T111501Z
SUMMARY:Feldenkrais  Frühjahr
DESCRIPTION:https://keb-oberallgaeu.de/veranstaltungen/feldenkrais-fruehjah
 r_id323571
DTSTART;TZID=Europe/Berlin:20260422T190000
LOCATION:Online
END:VEVENT
END:VCALENDAR
